BEGIN:VCALENDAR
VERSION:2.0
PRODID:-//Hardware Innovators by Mojo - ECPv6.15.20//NONSGML v1.0//EN
CALSCALE:GREGORIAN
METHOD:PUBLISH
X-WR-CALNAME:Hardware Innovators by Mojo
X-ORIGINAL-URL:https://hardwareinnovators.com
X-WR-CALDESC:Events for Hardware Innovators by Mojo
REFRESH-INTERVAL;VALUE=DURATION:PT1H
X-Robots-Tag:noindex
X-PUBLISHED-TTL:PT1H
BEGIN:VTIMEZONE
TZID:America/Los_Angeles
BEGIN:DAYLIGHT
TZOFFSETFROM:-0800
TZOFFSETTO:-0700
TZNAME:PDT
DTSTART:20240310T100000
END:DAYLIGHT
BEGIN:STANDARD
TZOFFSETFROM:-0700
TZOFFSETTO:-0800
TZNAME:PST
DTSTART:20241103T090000
END:STANDARD
BEGIN:DAYLIGHT
TZOFFSETFROM:-0800
TZOFFSETTO:-0700
TZNAME:PDT
DTSTART:20250309T100000
END:DAYLIGHT
BEGIN:STANDARD
TZOFFSETFROM:-0700
TZOFFSETTO:-0800
TZNAME:PST
DTSTART:20251102T090000
END:STANDARD
BEGIN:DAYLIGHT
TZOFFSETFROM:-0800
TZOFFSETTO:-0700
TZNAME:PDT
DTSTART:20260308T100000
END:DAYLIGHT
BEGIN:STANDARD
TZOFFSETFROM:-0700
TZOFFSETTO:-0800
TZNAME:PST
DTSTART:20261101T090000
END:STANDARD
END:VTIMEZONE
BEGIN:VEVENT
DTSTART;TZID=America/Los_Angeles:20250820T070000
DTEND;TZID=America/Los_Angeles:20250820T100000
DTSTAMP:20260421T175039
CREATED:20250729T190552Z
LAST-MODIFIED:20250729T194742Z
UID:25531-1755673200-1755684000@hardwareinnovators.com
SUMMARY:August 2025 Monthly Mastermind
DESCRIPTION:AUGUST’S MASTERMINDS\n			\n				\n				\n				\n				\n				\n			\n				JOIN YOUR MASTERMIND
URL:https://hardwareinnovators.com/event/august-2025-mastermind/
LOCATION:Zoom
ORGANIZER;CN="The Hardware Innovators":MAILTO:hello@hardwareinnovators.com
END:VEVENT
END:VCALENDAR